BEGIN:VCALENDAR
VERSION:2.0
PRODID:icalendar-ruby
CALSCALE:GREGORIAN
METHOD:PUBLISH
BEGIN:VEVENT
DTSTAMP:20260421T141828Z
UID:1535-2006116@stbedes.org
DTSTART:20261224T210000Z
DTEND:20261224T230000Z
CLASS:PUBLIC
CREATED:20260416T125359
DESCRIPTION:
LAST-MODIFIED:20260416T125359
LOCATION:Nave
SUMMARY:Liturgical Christmas Pageant with Holy Eucharist
URL;VALUE=URI:https://www.stbedes.org/events/liturgical-christmas-pageant-w
 ith-holy-eucharist--1535/2026-12-24
ATTACH;FILENAME=Pageant.jpeg;FMTTYPE=image/jpeg:https://dq5pwpg1q8ru0.cloud
 front.net/2026/04/16/16/53/59/16cd8c4e-bd02-4a06-ad17-9d4b4c5c8cbf/Pageant
 .jpeg
END:VEVENT
END:VCALENDAR
