BEGIN:VCALENDAR
VERSION:2.0
PRODID:icalendar-ruby
CALSCALE:GREGORIAN
METHOD:PUBLISH
BEGIN:VEVENT
DTSTAMP:20260420T024842Z
UID:1394-1124993@stbedes.org
DTSTART;VALUE=DATE:20260525
DTEND;VALUE=DATE:20260525
CLASS:PUBLIC
CREATED:20250730T132255
DESCRIPTION:
LAST-MODIFIED:20250730T132255
LOCATION:
SUMMARY:Memorial Day Office Closed
URL;VALUE=URI:https://www.stbedes.org/events/memorial-day-office-closed--13
 94/2026-05-25
END:VEVENT
END:VCALENDAR
