BEGIN:VCALENDAR
VERSION:2.0
PRODID:icalendar-ruby
CALSCALE:GREGORIAN
METHOD:PUBLISH
BEGIN:VEVENT
DTSTAMP:20260422T200731Z
UID:1542-2037876@stbedes.org
DTSTART:20260518T170000Z
DTEND:20260518T190000Z
CLASS:PUBLIC
CREATED:20260422T102223
DESCRIPTION:Please join us for our monthly book discussion.  This month's 
 selection is First Lie Wins by Ashley Elston.
LAST-MODIFIED:20260422T102223
LOCATION:M108
SUMMARY:Mostly Mysteries Book Group
URL;VALUE=URI:https://www.stbedes.org/events/mostly-mysteries-book-group--1
 542/2026-05-18
ATTACH;FILENAME=First Lie Wins.jpg;FMTTYPE=image/jpeg:https://dq5pwpg1q8ru0
 .cloudfront.net/2026/04/22/14/22/23/7dc46880-875d-4cde-b357-1deaf13a9b83/F
 irst%20Lie%20Wins.jpg
END:VEVENT
END:VCALENDAR
