BEGIN:VCALENDAR
VERSION:2.0
PRODID:icalendar-ruby
CALSCALE:GREGORIAN
METHOD:PUBLISH
BEGIN:VEVENT
DTSTAMP:20260421T122041Z
UID:1533-2006111@stbedes.org
DTSTART:20261212T000000Z
DTEND:20261212T020000Z
CLASS:PUBLIC
CREATED:20260416T124415
DESCRIPTION:
LAST-MODIFIED:20260416T124415
LOCATION:Nave
SUMMARY:Our Lady of Guadalupe
URL;VALUE=URI:https://www.stbedes.org/events/our-lady-of-guadalupe--1533/20
 26-12-11
ATTACH;FILENAME=Guadalupe.jpeg;FMTTYPE=image/jpeg:https://dq5pwpg1q8ru0.clo
 udfront.net/2026/04/16/16/44/14/9d6c0190-99e7-410d-a5b8-7fa1f07dd527/Guada
 lupe.jpeg
END:VEVENT
END:VCALENDAR
